BEGIN:VCALENDAR
VERSION:2.0
PRODID:-//155ste FOS De Feniks Zwalm - ECPv5.9.1//NONSGML v1.0//EN
CALSCALE:GREGORIAN
METHOD:PUBLISH
X-WR-CALNAME:155ste FOS De Feniks Zwalm
X-ORIGINAL-URL:https://defeniks.com
X-WR-CALDESC:Evenementen voor 155ste FOS De Feniks Zwalm
BEGIN:VTIMEZONE
TZID:Europe/Brussels
BEGIN:DAYLIGHT
TZOFFSETFROM:+0100
TZOFFSETTO:+0200
TZNAME:CEST
DTSTART:20240331T010000
END:DAYLIGHT
BEGIN:STANDARD
TZOFFSETFROM:+0200
TZOFFSETTO:+0100
TZNAME:CET
DTSTART:20241027T010000
END:STANDARD
END:VTIMEZONE
BEGIN:VEVENT
DTSTART;TZID=Europe/Brussels:20240427T140000
DTEND;TZID=Europe/Brussels:20240427T173000
DTSTAMP:20260423T033632
CREATED:20240414T204555Z
LAST-MODIFIED:20240414T204555Z
UID:8216-1714226400-1714239000@defeniks.com
SUMMARY:Activiteit Bevers
DESCRIPTION:
URL:https://defeniks.com/event/activiteit-bevers-7/
CATEGORIES:Bevers
END:VEVENT
END:VCALENDAR