BEGIN:VCALENDAR
VERSION:2.0
PRODID:-//155ste FOS De Feniks Zwalm - ECPv5.9.1//NONSGML v1.0//EN
CALSCALE:GREGORIAN
METHOD:PUBLISH
X-WR-CALNAME:155ste FOS De Feniks Zwalm
X-ORIGINAL-URL:https://defeniks.com
X-WR-CALDESC:Evenementen voor 155ste FOS De Feniks Zwalm
BEGIN:VTIMEZONE
TZID:Europe/Brussels
BEGIN:DAYLIGHT
TZOFFSETFROM:+0100
TZOFFSETTO:+0200
TZNAME:CEST
DTSTART:20240331T010000
END:DAYLIGHT
BEGIN:STANDARD
TZOFFSETFROM:+0200
TZOFFSETTO:+0100
TZNAME:CET
DTSTART:20241027T010000
END:STANDARD
END:VTIMEZONE
BEGIN:VEVENT
DTSTART;TZID=Europe/Brussels:20241206T183000
DTEND;TZID=Europe/Brussels:20241206T213000
DTSTAMP:20260422T033611
CREATED:20241202T080900Z
LAST-MODIFIED:20241205T092724Z
UID:8493-1733509800-1733520600@defeniks.com
SUMMARY:Activiteit JVGs
DESCRIPTION:Jullie moeten thuis nog niet gegeten hebben …
URL:https://defeniks.com/event/activiteit-jvgs-5/
END:VEVENT
END:VCALENDAR