BEGIN:VCALENDAR
VERSION:2.0
PRODID:-//155ste FOS De Feniks Zwalm - ECPv5.9.1//NONSGML v1.0//EN
CALSCALE:GREGORIAN
METHOD:PUBLISH
X-WR-CALNAME:155ste FOS De Feniks Zwalm
X-ORIGINAL-URL:https://defeniks.com
X-WR-CALDESC:Evenementen voor 155ste FOS De Feniks Zwalm
BEGIN:VTIMEZONE
TZID:Europe/Brussels
BEGIN:DAYLIGHT
TZOFFSETFROM:+0100
TZOFFSETTO:+0200
TZNAME:CEST
DTSTART:20230326T010000
END:DAYLIGHT
BEGIN:STANDARD
TZOFFSETFROM:+0200
TZOFFSETTO:+0100
TZNAME:CET
DTSTART:20231029T010000
END:STANDARD
END:VTIMEZONE
BEGIN:VEVENT
DTSTART;TZID=Europe/Brussels:20231125T193000
DTEND;TZID=Europe/Brussels:20231125T223000
DTSTAMP:20260426T062208
CREATED:20231118T085350Z
LAST-MODIFIED:20231123T101234Z
UID:7860-1700940600-1700951400@defeniks.com
SUMMARY:ACTIVITEIT VG's
DESCRIPTION:
URL:https://defeniks.com/event/activiteit-vgs-4/
CATEGORIES:VG'S
END:VEVENT
END:VCALENDAR