BEGIN:VCALENDAR
VERSION:2.0
PRODID:-//155ste FOS De Feniks Zwalm - ECPv5.9.1//NONSGML v1.0//EN
CALSCALE:GREGORIAN
METHOD:PUBLISH
X-WR-CALNAME:155ste FOS De Feniks Zwalm
X-ORIGINAL-URL:https://defeniks.com
X-WR-CALDESC:Evenementen voor 155ste FOS De Feniks Zwalm
BEGIN:VTIMEZONE
TZID:Europe/Brussels
BEGIN:DAYLIGHT
TZOFFSETFROM:+0100
TZOFFSETTO:+0200
TZNAME:CEST
DTSTART:20240331T010000
END:DAYLIGHT
BEGIN:STANDARD
TZOFFSETFROM:+0200
TZOFFSETTO:+0100
TZNAME:CET
DTSTART:20241027T010000
END:STANDARD
END:VTIMEZONE
BEGIN:VEVENT
DTSTART;TZID=Europe/Brussels:20240330T140000
DTEND;TZID=Europe/Brussels:20240330T173000
DTSTAMP:20260425T140522
CREATED:20240320T204736Z
LAST-MODIFIED:20240327T130102Z
UID:8169-1711807200-1711819800@defeniks.com
SUMMARY:Activiteit welpen - Neem goede stapschoenen en een warme regenjas mee! Ook is een rugzak met een flesje water aangeraden! Tot dan :)
DESCRIPTION:Neem goede stapschoenen en een warme regenjas mee! Ook is een rugzak met een flesje water aangeraden! Tot dan :)
URL:https://defeniks.com/event/activiteit-welpen-8/
CATEGORIES:Welpen
END:VEVENT
END:VCALENDAR