BEGIN:VCALENDAR
VERSION:2.0
PRODID:-//155ste FOS De Feniks Zwalm - ECPv5.9.1//NONSGML v1.0//EN
CALSCALE:GREGORIAN
METHOD:PUBLISH
X-WR-CALNAME:155ste FOS De Feniks Zwalm
X-ORIGINAL-URL:https://defeniks.com
X-WR-CALDESC:Evenementen voor 155ste FOS De Feniks Zwalm
BEGIN:VTIMEZONE
TZID:Europe/Brussels
BEGIN:DAYLIGHT
TZOFFSETFROM:+0100
TZOFFSETTO:+0200
TZNAME:CEST
DTSTART:20250330T010000
END:DAYLIGHT
BEGIN:STANDARD
TZOFFSETFROM:+0200
TZOFFSETTO:+0100
TZNAME:CET
DTSTART:20251026T010000
END:STANDARD
END:VTIMEZONE
BEGIN:VEVENT
DTSTART;TZID=Europe/Brussels:20251115T140000
DTEND;TZID=Europe/Brussels:20251115T173000
DTSTAMP:20260423T001948
CREATED:20251104T200340Z
LAST-MODIFIED:20251111T192739Z
UID:8904-1763215200-1763227800@defeniks.com
SUMMARY:Activiteit Wolven 🐺🐺
DESCRIPTION:Deze week spelen we een superdeluxe extreme bosspel\, daarvoor verplaatsen we ons naar het bos van Zingem 🥳🥳! Om 14u verzamelen we onder de brug van Zingem (kant van Zwalm).     Ps: Kleed jullie warm want het belooft een koude dag te worden. \nTot dan!! \nGrtjs De Wolvenleiding \n  \n  \n 
URL:https://defeniks.com/event/activiteit-wolven-%f0%9f%90%ba%f0%9f%90%ba/
CATEGORIES:Wolven
END:VEVENT
END:VCALENDAR