BEGIN:VCALENDAR
VERSION:2.0
PRODID:-//155ste FOS De Feniks Zwalm - ECPv5.9.1//NONSGML v1.0//EN
CALSCALE:GREGORIAN
METHOD:PUBLISH
X-WR-CALNAME:155ste FOS De Feniks Zwalm
X-ORIGINAL-URL:https://defeniks.com
X-WR-CALDESC:Evenementen voor 155ste FOS De Feniks Zwalm
BEGIN:VTIMEZONE
TZID:Europe/Brussels
BEGIN:DAYLIGHT
TZOFFSETFROM:+0100
TZOFFSETTO:+0200
TZNAME:CEST
DTSTART:20230326T010000
END:DAYLIGHT
BEGIN:STANDARD
TZOFFSETFROM:+0200
TZOFFSETTO:+0100
TZNAME:CET
DTSTART:20231029T010000
END:STANDARD
END:VTIMEZONE
BEGIN:VEVENT
DTSTART;TZID=Europe/Brussels:20231202T193000
DTEND;TZID=Europe/Brussels:20231202T223000
DTSTAMP:20260425T220158
CREATED:20231128T103512Z
LAST-MODIFIED:20231202T145837Z
UID:7883-1701545400-1701556200@defeniks.com
SUMMARY:Avond activiteit - JVGs
DESCRIPTION:Breng zeker jullie warmste kleren mee!! Het word een frisse activiteit.
URL:https://defeniks.com/event/avond-activiteit-jvgs/
LOCATION:Ter Wijl\, Sportlaan 1A\, Munkzwalm\, 9630
CATEGORIES:JVG'S
END:VEVENT
END:VCALENDAR