BEGIN:VCALENDAR
VERSION:2.0
PRODID:-//155ste FOS De Feniks Zwalm - ECPv5.9.1//NONSGML v1.0//EN
CALSCALE:GREGORIAN
METHOD:PUBLISH
X-WR-CALNAME:155ste FOS De Feniks Zwalm
X-ORIGINAL-URL:https://defeniks.com
X-WR-CALDESC:Evenementen voor 155ste FOS De Feniks Zwalm
BEGIN:VTIMEZONE
TZID:Europe/Brussels
BEGIN:DAYLIGHT
TZOFFSETFROM:+0100
TZOFFSETTO:+0200
TZNAME:CEST
DTSTART:20240331T010000
END:DAYLIGHT
BEGIN:STANDARD
TZOFFSETFROM:+0200
TZOFFSETTO:+0100
TZNAME:CET
DTSTART:20241027T010000
END:STANDARD
END:VTIMEZONE
BEGIN:VEVENT
DTSTART;TZID=Europe/Brussels:20241130T173000
DTEND;TZID=Europe/Brussels:20241130T203000
DTSTAMP:20260421T224929
CREATED:20241125T132622Z
LAST-MODIFIED:20241125T132622Z
UID:8491-1732987800-1732998600@defeniks.com
SUMMARY:Avondactiviteit!! ( avondeten wordt voorzien :) )
DESCRIPTION:
URL:https://defeniks.com/event/avondactiviteit-avondeten-wordt-voorzien/
LOCATION:Ter Wijl\, Sportlaan 1A\, Munkzwalm\, 9630
CATEGORIES:Bevers
END:VEVENT
END:VCALENDAR