BEGIN:VCALENDAR
VERSION:2.0
PRODID:-//155ste FOS De Feniks Zwalm - ECPv5.9.1//NONSGML v1.0//EN
CALSCALE:GREGORIAN
METHOD:PUBLISH
X-WR-CALNAME:155ste FOS De Feniks Zwalm
X-ORIGINAL-URL:https://defeniks.com
X-WR-CALDESC:Evenementen voor 155ste FOS De Feniks Zwalm
BEGIN:VTIMEZONE
TZID:Europe/Brussels
BEGIN:DAYLIGHT
TZOFFSETFROM:+0100
TZOFFSETTO:+0200
TZNAME:CEST
DTSTART:20230326T010000
END:DAYLIGHT
BEGIN:STANDARD
TZOFFSETFROM:+0200
TZOFFSETTO:+0100
TZNAME:CET
DTSTART:20231029T010000
END:STANDARD
END:VTIMEZONE
BEGIN:VEVENT
DTSTART;TZID=Europe/Brussels:20231209T180000
DTEND;TZID=Europe/Brussels:20231209T213000
DTSTAMP:20260425T154243
CREATED:20231124T165342Z
LAST-MODIFIED:20231205T211250Z
UID:7872-1702144800-1702157400@defeniks.com
SUMMARY:Avondactiviteit Wolven: 18-21u30 (Ter Wijl)
DESCRIPTION:Voor de wolven is er een filmavond voorzien\, dus neem gerust jullie favoriete films mee (anders moeten jullie vertrouwen op de smaak van de leiding). Wij zullen de Sint dus NIET samen met de Bevers en Welpen ontvangen\,  jullie leiding voorziet wel iets kleins voor tijdens de film (geen volwaardige maaltijd). \nVoor ouders die ook nog bevers en/of welpen op te halen hebben\, wij zullen tegen het einduur van de bevers en welpen al aan het afronden zijn (u kan dus gerust beide op het zelfde moment ophalen). \n  \nTot zaterdag!
URL:https://defeniks.com/event/avondactiviteit-wolven-18-21u30-ter-wijl/
CATEGORIES:Wolven
END:VEVENT
END:VCALENDAR