BEGIN:VCALENDAR
VERSION:2.0
PRODID:-//155ste FOS De Feniks Zwalm - ECPv5.9.1//NONSGML v1.0//EN
CALSCALE:GREGORIAN
METHOD:PUBLISH
X-WR-CALNAME:155ste FOS De Feniks Zwalm
X-ORIGINAL-URL:https://defeniks.com
X-WR-CALDESC:Evenementen voor 155ste FOS De Feniks Zwalm
BEGIN:VTIMEZONE
TZID:Europe/Brussels
BEGIN:DAYLIGHT
TZOFFSETFROM:+0100
TZOFFSETTO:+0200
TZNAME:CEST
DTSTART:20240331T010000
END:DAYLIGHT
BEGIN:STANDARD
TZOFFSETFROM:+0200
TZOFFSETTO:+0100
TZNAME:CET
DTSTART:20241027T010000
END:STANDARD
END:VTIMEZONE
BEGIN:VEVENT
DTSTART;TZID=Europe/Brussels:20240511T082000
DTEND;TZID=Europe/Brussels:20240511T173000
DTSTAMP:20260423T013726
CREATED:20240310T154305Z
LAST-MODIFIED:20240502T104826Z
UID:8153-1715415600-1715448600@defeniks.com
SUMMARY:Eenheidsactiviteit
DESCRIPTION:De eenheidsactiviteit brengt ons dit jaar naar de Blaarmeersen in Gent\, om hier te geraken nemen we de trein vanuit Munkzwalm. \nWe verzamelen om 8u20 aan het lokaal en zullen terug zijn om 17u30 voor onze laatste voltallige verzameling dit werkjaar in Zwalm. \nWet neem je mee: \n\nZonnecrème of regenjas (afhankelijk van het weer)\nZwemgerief\nLunchpakket\n7 euro\nGoed humeur\n\nNa de eindverzameling voorzien wij nog een een infomoment (als verlengstuk van onze ouderbevraging) met een kleine bar\, blijf dus gerust nog even hangen om ons beter te leren kennen of gewoon om (hopelijk) van het zonnetje te genieten.
URL:https://defeniks.com/event/eenheidsactiviteit-2/
CATEGORIES:Eenheid
END:VEVENT
END:VCALENDAR