BEGIN:VCALENDAR
VERSION:2.0
PRODID:-//155ste FOS De Feniks Zwalm - ECPv5.9.1//NONSGML v1.0//EN
CALSCALE:GREGORIAN
METHOD:PUBLISH
X-WR-CALNAME:155ste FOS De Feniks Zwalm
X-ORIGINAL-URL:https://defeniks.com
X-WR-CALDESC:Evenementen voor 155ste FOS De Feniks Zwalm
BEGIN:VTIMEZONE
TZID:Europe/Brussels
BEGIN:DAYLIGHT
TZOFFSETFROM:+0100
TZOFFSETTO:+0200
TZNAME:CEST
DTSTART:20240331T010000
END:DAYLIGHT
BEGIN:STANDARD
TZOFFSETFROM:+0200
TZOFFSETTO:+0100
TZNAME:CET
DTSTART:20241027T010000
END:STANDARD
END:VTIMEZONE
BEGIN:VEVENT
DTSTART;TZID=Europe/Brussels:20241019T180000
DTEND;TZID=Europe/Brussels:20241019T233000
DTSTAMP:20260422T123946
CREATED:20241005T190114Z
LAST-MODIFIED:20241007T184201Z
UID:8405-1729360800-1729380600@defeniks.com
SUMMARY:Halloweentocht 🎃
DESCRIPTION: 
URL:https://defeniks.com/event/halloweentocht-%f0%9f%8e%83/
CATEGORIES:Eenheid,Ouders
END:VEVENT
END:VCALENDAR