BEGIN:VCALENDAR
VERSION:2.0
PRODID:-//155ste FOS De Feniks Zwalm - ECPv5.9.1//NONSGML v1.0//EN
CALSCALE:GREGORIAN
METHOD:PUBLISH
X-WR-CALNAME:155ste FOS De Feniks Zwalm
X-ORIGINAL-URL:https://defeniks.com
X-WR-CALDESC:Evenementen voor 155ste FOS De Feniks Zwalm
BEGIN:VTIMEZONE
TZID:Europe/Brussels
BEGIN:DAYLIGHT
TZOFFSETFROM:+0100
TZOFFSETTO:+0200
TZNAME:CEST
DTSTART:20240331T010000
END:DAYLIGHT
BEGIN:STANDARD
TZOFFSETFROM:+0200
TZOFFSETTO:+0100
TZNAME:CET
DTSTART:20241027T010000
END:STANDARD
END:VTIMEZONE
BEGIN:VEVENT
DTSTART;TZID=Europe/Brussels:20240224T140000
DTEND;TZID=Europe/Brussels:20240224T173000
DTSTAMP:20260423T002015
CREATED:20240222T185904Z
LAST-MODIFIED:20240222T185904Z
UID:8101-1708783200-1708795800@defeniks.com
SUMMARY:Het kleine Beo zoekt haar sjaal spel
DESCRIPTION:
URL:https://defeniks.com/event/het-kleine-beo-zoekt-haar-sjaal-spel/
LOCATION:Ter Wijl\, Sportlaan 1A\, Munkzwalm\, 9630
CATEGORIES:JVG'S
END:VEVENT
END:VCALENDAR