BEGIN:VCALENDAR
VERSION:2.0
PRODID:-//155ste FOS De Feniks Zwalm - ECPv5.9.1//NONSGML v1.0//EN
CALSCALE:GREGORIAN
METHOD:PUBLISH
X-WR-CALNAME:155ste FOS De Feniks Zwalm
X-ORIGINAL-URL:https://defeniks.com
X-WR-CALDESC:Evenementen voor 155ste FOS De Feniks Zwalm
BEGIN:VTIMEZONE
TZID:Europe/Brussels
BEGIN:DAYLIGHT
TZOFFSETFROM:+0100
TZOFFSETTO:+0200
TZNAME:CEST
DTSTART:20230326T010000
END:DAYLIGHT
BEGIN:STANDARD
TZOFFSETFROM:+0200
TZOFFSETTO:+0100
TZNAME:CET
DTSTART:20231029T010000
END:STANDARD
END:VTIMEZONE
BEGIN:VEVENT
DTSTART;TZID=Europe/Brussels:20231209T181500
DTEND;TZID=Europe/Brussels:20231209T220000
DTSTAMP:20260425T141849
CREATED:20231207T121759Z
LAST-MODIFIED:20231208T171511Z
UID:7900-1702145700-1702159200@defeniks.com
SUMMARY:JVGs - avondactiviteit
DESCRIPTION:Kom zeker op tijd!! Want deze keer word het echt een verrassing wat we gaan doen. Voor deze activiteit mogen jullie ook een klein beetje zakgeld meedoen\, dit is zeker geen vereiste. \n 
URL:https://defeniks.com/event/jvgs-avondactiviteit-2/
LOCATION:Ter Wijl\, Sportlaan 1A\, Munkzwalm\, 9630
CATEGORIES:JVG'S
END:VEVENT
END:VCALENDAR