BEGIN:VCALENDAR
VERSION:2.0
PRODID:-//155ste FOS De Feniks Zwalm - ECPv5.9.1//NONSGML v1.0//EN
CALSCALE:GREGORIAN
METHOD:PUBLISH
X-WR-CALNAME:155ste FOS De Feniks Zwalm
X-ORIGINAL-URL:https://defeniks.com
X-WR-CALDESC:Evenementen voor 155ste FOS De Feniks Zwalm
BEGIN:VTIMEZONE
TZID:Europe/Brussels
BEGIN:DAYLIGHT
TZOFFSETFROM:+0100
TZOFFSETTO:+0200
TZNAME:CEST
DTSTART:20230326T010000
END:DAYLIGHT
BEGIN:STANDARD
TZOFFSETFROM:+0200
TZOFFSETTO:+0100
TZNAME:CET
DTSTART:20231029T010000
END:STANDARD
END:VTIMEZONE
BEGIN:VEVENT
DTSTART;TZID=Europe/Brussels:20231216T180000
DTEND;TZID=Europe/Brussels:20231216T213000
DTSTAMP:20260425T154130
CREATED:20231008T092844Z
LAST-MODIFIED:20231124T164814Z
UID:7698-1702749600-1702762200@defeniks.com
SUMMARY:Kerstfeestje
DESCRIPTION:Helaas! Het is alweer de laatste activiteit van dit jaar. Op ons jaarlijks kerstfeestje sluiten we af met een leuke avondactiviteit vol spelletjes met de hele eenheid. Wij vragen iedereen een goed ingepakt cadeautje te voorzien (ter waarde van maximaal 3 euro\, liefst geen eten)\, dit cadeautje wordt vervolgens willekeurig uitgedeeld aan de hand van allerlei leuke spelletjes (je cadeautje kan dus bij om het even wie uitkomen).
URL:https://defeniks.com/event/kerstfeestje-3/
CATEGORIES:Eenheid
END:VEVENT
END:VCALENDAR