BEGIN:VCALENDAR
VERSION:2.0
PRODID:-//155ste FOS De Feniks Zwalm - ECPv5.9.1//NONSGML v1.0//EN
CALSCALE:GREGORIAN
METHOD:PUBLISH
X-WR-CALNAME:155ste FOS De Feniks Zwalm
X-ORIGINAL-URL:https://defeniks.com
X-WR-CALDESC:Evenementen voor 155ste FOS De Feniks Zwalm
BEGIN:VTIMEZONE
TZID:Europe/Brussels
BEGIN:DAYLIGHT
TZOFFSETFROM:+0100
TZOFFSETTO:+0200
TZNAME:CEST
DTSTART:20240331T010000
END:DAYLIGHT
BEGIN:STANDARD
TZOFFSETFROM:+0200
TZOFFSETTO:+0100
TZNAME:CET
DTSTART:20241027T010000
END:STANDARD
END:VTIMEZONE
BEGIN:VEVENT
DTSTART;TZID=Europe/Brussels:20240323T133000
DTEND;TZID=Europe/Brussels:20240323T173000
DTSTAMP:20260425T140659
CREATED:20240319T171326Z
LAST-MODIFIED:20240319T171348Z
UID:8162-1711200600-1711215000@defeniks.com
SUMMARY:Naar Gent => afspreken in Zingem
DESCRIPTION:Zaterdag gaan we naar Gent. We spreken af in Zingem om 13u30 (zorg dat je op tijd bent)!!! We komen terug toe in Zingem om 17u20.
URL:https://defeniks.com/event/naar-gent-afspreken-in-zingem/
CATEGORIES:VG'S
END:VEVENT
END:VCALENDAR