BEGIN:VCALENDAR
VERSION:2.0
PRODID:-//155ste FOS De Feniks Zwalm - ECPv5.9.1//NONSGML v1.0//EN
CALSCALE:GREGORIAN
METHOD:PUBLISH
X-WR-CALNAME:155ste FOS De Feniks Zwalm
X-ORIGINAL-URL:https://defeniks.com
X-WR-CALDESC:Evenementen voor 155ste FOS De Feniks Zwalm
BEGIN:VTIMEZONE
TZID:Europe/Brussels
BEGIN:DAYLIGHT
TZOFFSETFROM:+0100
TZOFFSETTO:+0200
TZNAME:CEST
DTSTART:20240331T010000
END:DAYLIGHT
BEGIN:STANDARD
TZOFFSETFROM:+0200
TZOFFSETTO:+0100
TZNAME:CET
DTSTART:20241027T010000
END:STANDARD
END:VTIMEZONE
BEGIN:VEVENT
DTSTART;TZID=Europe/Brussels:20240217T133000
DTEND;TZID=Europe/Brussels:20240217T173000
DTSTAMP:20260423T063224
CREATED:20240110T082204Z
LAST-MODIFIED:20240110T082204Z
UID:7904-1708176600-1708191000@defeniks.com
SUMMARY:Schaatsen (verzameling om 13u30!)
DESCRIPTION:Op 17 februari starten wij onze activiteiten met een eenheidsuitstap naar de schaarsbaan Kristalijn in Gent. \nWat hebben we daar voor nodig: \n\nWarme kleren (zeker handschoenen!!)\nJullie allerliefste mama\, papa\, oma of opa om ons te helpen allemaal daar te geraken.\n€4 om binnen te kunnen\n\nExtra: Ouders/grootouders die rijden mogen gratis met ons mee (zorg wel dat je ter plaatse mee geteld wordt). \nHet adres van de Kristalijn is Warmoezeniersweg 20 9000 Gent. We vertrekken naar Zwalm aan de Kristalijn om 17u om op tijd terug te zijn. \n(Bij terugkomst doen we geen verzameling meer\, deze zullen we doen op het ijs)
URL:https://defeniks.com/event/schaatsen-verzameling-om-13u30/
CATEGORIES:Eenheid
END:VEVENT
END:VCALENDAR