BEGIN:VCALENDAR
VERSION:2.0
PRODID:-//155ste FOS De Feniks Zwalm - ECPv5.9.1//NONSGML v1.0//EN
CALSCALE:GREGORIAN
METHOD:PUBLISH
X-WR-CALNAME:155ste FOS De Feniks Zwalm
X-ORIGINAL-URL:https://defeniks.com
X-WR-CALDESC:Evenementen voor 155ste FOS De Feniks Zwalm
BEGIN:VTIMEZONE
TZID:Europe/Brussels
BEGIN:DAYLIGHT
TZOFFSETFROM:+0100
TZOFFSETTO:+0200
TZNAME:CEST
DTSTART:20240331T010000
END:DAYLIGHT
BEGIN:STANDARD
TZOFFSETFROM:+0200
TZOFFSETTO:+0100
TZNAME:CET
DTSTART:20241027T010000
END:STANDARD
END:VTIMEZONE
BEGIN:VEVENT
DTSTART;TZID=Europe/Brussels:20240224T135900
DTEND;TZID=Europe/Brussels:20240224T173000
DTSTAMP:20260423T045123
CREATED:20240221T164622Z
LAST-MODIFIED:20240221T164804Z
UID:8099-1708783140-1708795800@defeniks.com
SUMMARY:Wolven strookjes koekenverkoop meebrengen
DESCRIPTION:Beste wolven\, deze week worden de strookjes verzameld van de koekjesverkoop. \nAls jullie er helaas niet bij kunnen zijn\, mag je ze ook meegeven met een van je vrienden/vriendinnen of mag je ons een mailtje/berichtje sturen met je bestelling. \n  \nTot zaterdag!! \nDe wolvenleiding
URL:https://defeniks.com/event/wolven-strookjes-koekenverkoop-meebrengen/
CATEGORIES:Wolven
END:VEVENT
END:VCALENDAR