BEGIN:VCALENDAR
VERSION:2.0
PRODID:-//155ste FOS De Feniks Zwalm - ECPv5.9.1//NONSGML v1.0//EN
CALSCALE:GREGORIAN
METHOD:PUBLISH
X-WR-CALNAME:155ste FOS De Feniks Zwalm
X-ORIGINAL-URL:https://defeniks.com
X-WR-CALDESC:Evenementen voor 155ste FOS De Feniks Zwalm
BEGIN:VTIMEZONE
TZID:Europe/Brussels
BEGIN:DAYLIGHT
TZOFFSETFROM:+0100
TZOFFSETTO:+0200
TZNAME:CEST
DTSTART:20250330T010000
END:DAYLIGHT
BEGIN:STANDARD
TZOFFSETFROM:+0200
TZOFFSETTO:+0100
TZNAME:CET
DTSTART:20251026T010000
END:STANDARD
END:VTIMEZONE
BEGIN:VEVENT
DTSTART;TZID=Europe/Brussels:20250426T140000
DTEND;TZID=Europe/Brussels:20250426T173000
DTSTAMP:20260422T124010
CREATED:20250422T095844Z
LAST-MODIFIED:20250422T095844Z
UID:8647-1745676000-1745688600@defeniks.com
SUMMARY:Zaterdagnamiddagactiviteit :))
DESCRIPTION:
URL:https://defeniks.com/event/zaterdagnamiddagactiviteit-3/
LOCATION:Ter Wijl\, Sportlaan 1A\, Munkzwalm\, 9630
CATEGORIES:Bevers
END:VEVENT
END:VCALENDAR