BEGIN:VCALENDAR
VERSION:2.0
PRODID:-//155ste FOS De Feniks Zwalm - ECPv5.9.1//NONSGML v1.0//EN
CALSCALE:GREGORIAN
METHOD:PUBLISH
X-WR-CALNAME:155ste FOS De Feniks Zwalm
X-ORIGINAL-URL:https://defeniks.com
X-WR-CALDESC:Evenementen voor 155ste FOS De Feniks Zwalm
BEGIN:VTIMEZONE
TZID:Europe/Brussels
BEGIN:DAYLIGHT
TZOFFSETFROM:+0100
TZOFFSETTO:+0200
TZNAME:CEST
DTSTART:20240331T010000
END:DAYLIGHT
BEGIN:STANDARD
TZOFFSETFROM:+0200
TZOFFSETTO:+0100
TZNAME:CET
DTSTART:20241027T010000
END:STANDARD
END:VTIMEZONE
BEGIN:VEVENT
DTSTART;TZID=Europe/Brussels:20241123T133000
DTEND;TZID=Europe/Brussels:20241123T173000
DTSTAMP:20260421T180405
CREATED:20241016T095235Z
LAST-MODIFIED:20241118T075648Z
UID:8415-1732368600-1732383000@defeniks.com
SUMMARY:Zwemmen
DESCRIPTION:Om 13:30 spreken we af aan het lokaal (met 3 euro en zwemgerief). We rekenen op de ouders om iedereen veilig naar het zwembad (de Treffer in Waregem) en terug te brengen. Voor kinderen die nog niet kunnen zwemmen\, neem bandjes mee! Ouders die graag mee zwemmen mogen zeker mee. Graag zouden we ten laatste om 17u terug vertrekken aan de Treffer (we doen hierna geen verzameling meer op het lokaal) en vragen dus aan de rijdende ouders om daar al iets eerder te zijn. \n 
URL:https://defeniks.com/event/zwemmen/
LOCATION:De Treffer Waregem\, Meersstraat 5\, Waregem\, Belgium
CATEGORIES:Eenheid
END:VEVENT
END:VCALENDAR