BEGIN:VCALENDAR
VERSION:2.0
PRODID:-//155ste FOS De Feniks Zwalm - ECPv5.9.1//NONSGML v1.0//EN
CALSCALE:GREGORIAN
METHOD:PUBLISH
X-WR-CALNAME:155ste FOS De Feniks Zwalm
X-ORIGINAL-URL:https://defeniks.com
X-WR-CALDESC:Events for 155ste FOS De Feniks Zwalm
BEGIN:VTIMEZONE
TZID:Europe/Brussels
BEGIN:DAYLIGHT
TZOFFSETFROM:+0100
TZOFFSETTO:+0200
TZNAME:CEST
DTSTART:20260329T010000
END:DAYLIGHT
BEGIN:STANDARD
TZOFFSETFROM:+0200
TZOFFSETTO:+0100
TZNAME:CET
DTSTART:20261025T010000
END:STANDARD
END:VTIMEZONE
BEGIN:VEVENT
DTSTART;TZID=Europe/Brussels:20260221T133000
DTEND;TZID=Europe/Brussels:20260221T173000
DTSTAMP:20260425T123405
CREATED:20260215T173207Z
LAST-MODIFIED:20260215T173207Z
UID:9060-1771680600-1771695000@defeniks.com
SUMMARY:Schaatsen (verzameling om 13u30)
DESCRIPTION:Op 21 maart gaan we op eenheidsuitstap naar de schaatsbaan Kristalijn in Gent. \nWat hebben we daar voor nodig: \n\nWarme kleren (zeker handschoenen!!)\nJullie allerliefste mama\, papa\, oma of opa om ons te helpen allemaal daar te geraken.\n€4 om binnen te kunnen\n\nExtra: Ouders/grootouders die rijden mogen gratis met ons mee (zorg wel dat je ter plaatse meegeteld wordt). \nHet adres van de Kristalijn is Warmoezeniersweg 20 9000 Gent. We vertrekken naar Zwalm aan de Kristalijn om 17u om op tijd terug te zijn. \n(Bij terugkomst doen we geen verzameling meer\, deze zullen we doen op het ijs)
URL:https://defeniks.com/event/schaatsen-verzameling-om-13u30-3/
CATEGORIES:Eenheid
END:VEVENT
END:VCALENDAR