BEGIN:VCALENDAR
VERSION:2.0
PRODID:-//155ste FOS De Feniks Zwalm - ECPv5.9.1//NONSGML v1.0//EN
CALSCALE:GREGORIAN
METHOD:PUBLISH
X-WR-CALNAME:155ste FOS De Feniks Zwalm
X-ORIGINAL-URL:https://defeniks.com
X-WR-CALDESC:Events for 155ste FOS De Feniks Zwalm
BEGIN:VTIMEZONE
TZID:Europe/Brussels
BEGIN:DAYLIGHT
TZOFFSETFROM:+0100
TZOFFSETTO:+0200
TZNAME:CEST
DTSTART:20250330T010000
END:DAYLIGHT
BEGIN:STANDARD
TZOFFSETFROM:+0200
TZOFFSETTO:+0100
TZNAME:CET
DTSTART:20251026T010000
END:STANDARD
END:VTIMEZONE
BEGIN:VEVENT
DTSTART;TZID=Europe/Brussels:20250322T190000
DTEND;TZID=Europe/Brussels:20250322T220000
DTSTAMP:20260423T095046
CREATED:20250313T090459Z
LAST-MODIFIED:20250316T115042Z
UID:8609-1742670000-1742680800@defeniks.com
SUMMARY:activiteit jvg's
DESCRIPTION:
URL:https://defeniks.com/event/activiteit-jvgs-11/
CATEGORIES:JVG'S
END:VEVENT
END:VCALENDAR