BEGIN:VCALENDAR
VERSION:2.0
PRODID:-//155ste FOS De Feniks Zwalm - ECPv5.9.1//NONSGML v1.0//EN
CALSCALE:GREGORIAN
METHOD:PUBLISH
X-WR-CALNAME:155ste FOS De Feniks Zwalm
X-ORIGINAL-URL:https://defeniks.com
X-WR-CALDESC:Events for 155ste FOS De Feniks Zwalm
BEGIN:VTIMEZONE
TZID:Europe/Brussels
BEGIN:DAYLIGHT
TZOFFSETFROM:+0100
TZOFFSETTO:+0200
TZNAME:CEST
DTSTART:20250330T010000
END:DAYLIGHT
BEGIN:STANDARD
TZOFFSETFROM:+0200
TZOFFSETTO:+0100
TZNAME:CET
DTSTART:20251026T010000
END:STANDARD
BEGIN:DAYLIGHT
TZOFFSETFROM:+0100
TZOFFSETTO:+0200
TZNAME:CEST
DTSTART:20260329T010000
END:DAYLIGHT
BEGIN:STANDARD
TZOFFSETFROM:+0200
TZOFFSETTO:+0100
TZNAME:CET
DTSTART:20261025T010000
END:STANDARD
END:VTIMEZONE
BEGIN:VEVENT
DTSTART;TZID=Europe/Brussels:20251011T140000
DTEND;TZID=Europe/Brussels:20251011T173000
DTSTAMP:20260423T000118
CREATED:20251011T082010Z
LAST-MODIFIED:20251011T082010Z
UID:8850-1760191200-1760203800@defeniks.com
SUMMARY:Activiteit JVG's
DESCRIPTION:
URL:https://defeniks.com/event/activiteit-jvgs-16/
LOCATION:Ter Wijl\, Sportlaan 1A\, Munkzwalm\, 9630
CATEGORIES:JVG'S
END:VEVENT
BEGIN:VEVENT
DTSTART;TZID=Europe/Brussels:20251122T133000
DTEND;TZID=Europe/Brussels:20251122T173000
DTSTAMP:20260423T000118
CREATED:20251019T005251Z
LAST-MODIFIED:20251122T120607Z
UID:8838-1763818200-1763832600@defeniks.com
SUMMARY:Zwemmen
DESCRIPTION:Om 13:30 spreken we af aan het lokaal (met 3 euro en zwemgerief). \nWe rekenen op de ouders om iedereen veilig naar het zwembad (de Treffer in Waregem) en terug te brengen. Voor kinderen die nog niet kunnen zwemmen\, neem bandjes mee! Ouders die graag mee zwemmen mogen zeker mee. \nGraag zouden we ten laatste om 17u terug vertrekken aan de Treffer (we doen hierna geen verzameling meer op het lokaal) en vragen dus aan de rijdende ouders om daar al iets eerder te zijn.
URL:https://defeniks.com/event/zwemmen-3/
LOCATION:De Treffer Waregem\, Meersstraat 5\, Waregem\, Belgium
CATEGORIES:Bevers,Eenheid,JVG'S,Ouders,VG'S,Welpen,Wolven
END:VEVENT
BEGIN:VEVENT
DTSTART;TZID=Europe/Brussels:20251129T140000
DTEND;TZID=Europe/Brussels:20251129T173000
DTSTAMP:20260423T000118
CREATED:20251128T191239Z
LAST-MODIFIED:20251128T191239Z
UID:8955-1764424800-1764437400@defeniks.com
SUMMARY:Activiteit  14- 17:30u
DESCRIPTION:
URL:https://defeniks.com/event/activiteit-14-1730u/
LOCATION:Ter Wijl\, Sportlaan 1A\, Munkzwalm\, 9630
CATEGORIES:JVG'S
END:VEVENT
BEGIN:VEVENT
DTSTART;TZID=Europe/Brussels:20251206T180000
DTEND;TZID=Europe/Brussels:20251206T210000
DTSTAMP:20260423T000118
CREATED:20251130T113604Z
LAST-MODIFIED:20251130T113705Z
UID:8966-1765044000-1765054800@defeniks.com
SUMMARY:Filmavond JVG's!!!
DESCRIPTION:De leiding voorziet avondeten\, maar neem zeker wat lekkere snacks mee voor tijdens de film!! :)
URL:https://defeniks.com/event/filmavond-3/
CATEGORIES:JVG'S
END:VEVENT
BEGIN:VEVENT
DTSTART;TZID=Europe/Brussels:20251213T180000
DTEND;TZID=Europe/Brussels:20251213T210000
DTSTAMP:20260423T000118
CREATED:20251207T140635Z
LAST-MODIFIED:20251207T140635Z
UID:8982-1765648800-1765659600@defeniks.com
SUMMARY:Kookactiviteit JVG's!!!!
DESCRIPTION:
URL:https://defeniks.com/event/kookactiviteit-jvgs/
CATEGORIES:JVG'S
END:VEVENT
BEGIN:VEVENT
DTSTART;TZID=Europe/Brussels:20260214T140000
DTEND;TZID=Europe/Brussels:20260214T173000
DTSTAMP:20260423T000118
CREATED:20260213T190945Z
LAST-MODIFIED:20260213T190945Z
UID:9051-1771077600-1771090200@defeniks.com
SUMMARY:Activiteit JVG's !!!
DESCRIPTION:
URL:https://defeniks.com/event/activiteit-jvgs-20/
CATEGORIES:JVG'S
END:VEVENT
BEGIN:VEVENT
DTSTART;TZID=Europe/Brussels:20260228T140000
DTEND;TZID=Europe/Brussels:20260228T173000
DTSTAMP:20260423T000118
CREATED:20260213T191403Z
LAST-MODIFIED:20260213T191403Z
UID:9055-1772287200-1772299800@defeniks.com
SUMMARY:Activiteit JVG'ssssssssssssssssssss
DESCRIPTION:
URL:https://defeniks.com/event/activiteit-jvgssssssssssssssssssss/
CATEGORIES:JVG'S
END:VEVENT
BEGIN:VEVENT
DTSTART;TZID=Europe/Brussels:20260307T140000
DTEND;TZID=Europe/Brussels:20260307T173000
DTSTAMP:20260423T000118
CREATED:20260213T191547Z
LAST-MODIFIED:20260213T191547Z
UID:9057-1772892000-1772904600@defeniks.com
SUMMARY:Activiteit JVG's :)
DESCRIPTION:
URL:https://defeniks.com/event/activiteit-jvgs-21/
CATEGORIES:JVG'S
END:VEVENT
BEGIN:VEVENT
DTSTART;TZID=Europe/Brussels:20260327T190000
DTEND;TZID=Europe/Brussels:20260327T220000
DTSTAMP:20260423T000118
CREATED:20260324T165123Z
LAST-MODIFIED:20260324T165123Z
UID:9222-1774638000-1774648800@defeniks.com
SUMMARY:Avondactiviteit JVG's
DESCRIPTION:
URL:https://defeniks.com/event/avondactiviteit-jvgs/
CATEGORIES:JVG'S
END:VEVENT
BEGIN:VEVENT
DTSTART;TZID=Europe/Brussels:20260328T160000
DTEND;TZID=Europe/Brussels:20260328T183000
DTSTAMP:20260423T000118
CREATED:20260119T162120Z
LAST-MODIFIED:20260119T162120Z
UID:9000-1774713600-1774722600@defeniks.com
SUMMARY:Winkeltje open
DESCRIPTION:
URL:https://defeniks.com/event/winkeltje-open/
LOCATION:Ter Wijl\, Sportlaan 1A\, Munkzwalm\, 9630
CATEGORIES:Bevers,Eenheid,JVG'S,Ouders,VG'S,Welpen,Wolven
END:VEVENT
BEGIN:VEVENT
DTSTART;VALUE=DATE:20260502
DTEND;VALUE=DATE:20260503
DTSTAMP:20260423T000118
CREATED:20260407T101047Z
LAST-MODIFIED:20260407T101047Z
UID:9234-1777680000-1777766399@defeniks.com
SUMMARY:DAGUITSTAP JVG's  !!!!!!
DESCRIPTION:Spannend nieuws! We gaan samen met de Wolven- en JVG-tak op daguitstap! \nDe locatie blijft nog even geheim\, maar wat we jullie al kunnen vertellen\, is dat we op zaterdag 2 mei de trein nemen. We verzamelen allemaal om 8.00u aan het lokaal en zijn om 18.40u weer terug met de trein in Munkzwalm. \nEén ding staat al vast: het wordt een dag vol plezier en avontuur. \nWe vragen jullie om zelf een lunchpakket mee te nemen. Een drankje en een koekje voorzien wij. Wat mogen jullie zeker niet vergeten: perfect uniform en jullie allerbeste humeur! Want zo’n dag als deze zullen jullie niet snel vergeten\, dat kunnen we wel al verzekeren. Nu nog hopen dat het weertje ons goed gezind is\, en dan kan deze dag niet meer stuk. \nWij hopen met zo veel mogelijk op de trein (naar …) te stappen op 2 mei!!
URL:https://defeniks.com/event/daguitstap-jvgs/
CATEGORIES:JVG'S
END:VEVENT
END:VCALENDAR