BEGIN:VCALENDAR
VERSION:2.0
PRODID:-//155ste FOS De Feniks Zwalm - ECPv5.9.1//NONSGML v1.0//EN
CALSCALE:GREGORIAN
METHOD:PUBLISH
X-WR-CALNAME:155ste FOS De Feniks Zwalm
X-ORIGINAL-URL:https://defeniks.com
X-WR-CALDESC:Events for 155ste FOS De Feniks Zwalm
BEGIN:VTIMEZONE
TZID:Europe/Brussels
BEGIN:DAYLIGHT
TZOFFSETFROM:+0100
TZOFFSETTO:+0200
TZNAME:CEST
DTSTART:20250330T010000
END:DAYLIGHT
BEGIN:STANDARD
TZOFFSETFROM:+0200
TZOFFSETTO:+0100
TZNAME:CET
DTSTART:20251026T010000
END:STANDARD
END:VTIMEZONE
BEGIN:VEVENT
DTSTART;TZID=Europe/Brussels:20251004T140000
DTEND;TZID=Europe/Brussels:20251004T173000
DTSTAMP:20260425T214202
CREATED:20250909T222555Z
LAST-MODIFIED:20251002T110017Z
UID:8777-1759586400-1759599000@defeniks.com
SUMMARY:Activiteit Welpen Vuil Spel
DESCRIPTION:Voorzie zeker kledij die vuil mag worden!!!
URL:https://defeniks.com/event/activiteit-welpen-25/
CATEGORIES:Welpen
END:VEVENT
END:VCALENDAR