BEGIN:VCALENDAR
VERSION:2.0
PRODID:-//155ste FOS De Feniks Zwalm - ECPv5.9.1//NONSGML v1.0//EN
CALSCALE:GREGORIAN
METHOD:PUBLISH
X-WR-CALNAME:155ste FOS De Feniks Zwalm
X-ORIGINAL-URL:https://defeniks.com
X-WR-CALDESC:Events for 155ste FOS De Feniks Zwalm
BEGIN:VTIMEZONE
TZID:Europe/Brussels
BEGIN:DAYLIGHT
TZOFFSETFROM:+0100
TZOFFSETTO:+0200
TZNAME:CEST
DTSTART:20250330T010000
END:DAYLIGHT
BEGIN:STANDARD
TZOFFSETFROM:+0200
TZOFFSETTO:+0100
TZNAME:CET
DTSTART:20251026T010000
END:STANDARD
END:VTIMEZONE
BEGIN:VEVENT
DTSTART;TZID=Europe/Brussels:20251129T140000
DTEND;TZID=Europe/Brussels:20251129T173000
DTSTAMP:20260425T140747
CREATED:20251128T191239Z
LAST-MODIFIED:20251128T191239Z
UID:8955-1764424800-1764437400@defeniks.com
SUMMARY:Activiteit  14- 17:30u
DESCRIPTION:
URL:https://defeniks.com/event/activiteit-14-1730u/
LOCATION:Ter Wijl\, Sportlaan 1A\, Munkzwalm\, 9630
CATEGORIES:JVG'S
END:VEVENT
BEGIN:VEVENT
DTSTART;TZID=Europe/Brussels:20251129T140000
DTEND;TZID=Europe/Brussels:20251129T173000
DTSTAMP:20260425T140747
CREATED:20251126T113108Z
LAST-MODIFIED:20251126T113108Z
UID:8950-1764424800-1764437400@defeniks.com
SUMMARY:Activiteit Bevers
DESCRIPTION:
URL:https://defeniks.com/event/activiteit-bevers-15/
CATEGORIES:Bevers
END:VEVENT
BEGIN:VEVENT
DTSTART;TZID=Europe/Brussels:20251129T140000
DTEND;TZID=Europe/Brussels:20251129T173000
DTSTAMP:20260425T140747
CREATED:20251125T140845Z
LAST-MODIFIED:20251125T140845Z
UID:8947-1764424800-1764437400@defeniks.com
SUMMARY:Activiteit Wolven
DESCRIPTION:
URL:https://defeniks.com/event/activiteit-wolven-4/
END:VEVENT
BEGIN:VEVENT
DTSTART;TZID=Europe/Brussels:20251129T140000
DTEND;TZID=Europe/Brussels:20251129T173000
DTSTAMP:20260425T140747
CREATED:20251124T095440Z
LAST-MODIFIED:20251124T095440Z
UID:8925-1764424800-1764437400@defeniks.com
SUMMARY:Activiteit Welpen
DESCRIPTION:
URL:https://defeniks.com/event/activiteit-welpen-28/
CATEGORIES:Welpen
END:VEVENT
BEGIN:VEVENT
DTSTART;TZID=Europe/Brussels:20251128T190000
DTEND;TZID=Europe/Brussels:20251128T220000
DTSTAMP:20260425T140747
CREATED:20251124T152856Z
LAST-MODIFIED:20251126T120810Z
UID:8943-1764356400-1764367200@defeniks.com
SUMMARY:Avondactiviteit VG's
DESCRIPTION:
URL:https://defeniks.com/event/avondactiviteit-vgs-5/
CATEGORIES:VG'S
END:VEVENT
BEGIN:VEVENT
DTSTART;TZID=Europe/Brussels:20251122T133000
DTEND;TZID=Europe/Brussels:20251122T173000
DTSTAMP:20260425T140747
CREATED:20251019T005251Z
LAST-MODIFIED:20251122T120607Z
UID:8838-1763818200-1763832600@defeniks.com
SUMMARY:Zwemmen
DESCRIPTION:Om 13:30 spreken we af aan het lokaal (met 3 euro en zwemgerief). \nWe rekenen op de ouders om iedereen veilig naar het zwembad (de Treffer in Waregem) en terug te brengen. Voor kinderen die nog niet kunnen zwemmen\, neem bandjes mee! Ouders die graag mee zwemmen mogen zeker mee. \nGraag zouden we ten laatste om 17u terug vertrekken aan de Treffer (we doen hierna geen verzameling meer op het lokaal) en vragen dus aan de rijdende ouders om daar al iets eerder te zijn.
URL:https://defeniks.com/event/zwemmen-3/
LOCATION:De Treffer Waregem\, Meersstraat 5\, Waregem\, Belgium
CATEGORIES:Bevers,Eenheid,JVG'S,Ouders,VG'S,Welpen,Wolven
END:VEVENT
BEGIN:VEVENT
DTSTART;TZID=Europe/Brussels:20251115T170000
DTEND;TZID=Europe/Brussels:20251115T180000
DTSTAMP:20260425T140747
CREATED:20250916T063901Z
LAST-MODIFIED:20250916T063901Z
UID:8788-1763226000-1763229600@defeniks.com
SUMMARY:Winkeltje open (17u-18u)
DESCRIPTION:
URL:https://defeniks.com/event/winkeltje-open-17u-18u-3/
LOCATION:Ter Wijl\, Sportlaan 1A\, Munkzwalm\, 9630
CATEGORIES:Ouders
END:VEVENT
BEGIN:VEVENT
DTSTART;TZID=Europe/Brussels:20251115T140000
DTEND;TZID=Europe/Brussels:20251115T173000
DTSTAMP:20260425T140747
CREATED:20251114T141158Z
LAST-MODIFIED:20251114T141158Z
UID:8919-1763215200-1763227800@defeniks.com
SUMMARY:Activiteit Bevers
DESCRIPTION:
URL:https://defeniks.com/event/activiteit-bevers-14/
CATEGORIES:Bevers
END:VEVENT
BEGIN:VEVENT
DTSTART;TZID=Europe/Brussels:20251115T140000
DTEND;TZID=Europe/Brussels:20251115T173000
DTSTAMP:20260425T140747
CREATED:20251104T200340Z
LAST-MODIFIED:20251111T192739Z
UID:8904-1763215200-1763227800@defeniks.com
SUMMARY:Activiteit Wolven 🐺🐺
DESCRIPTION:Deze week spelen we een superdeluxe extreme bosspel\, daarvoor verplaatsen we ons naar het bos van Zingem 🥳🥳! Om 14u verzamelen we onder de brug van Zingem (kant van Zwalm).     Ps: Kleed jullie warm want het belooft een koude dag te worden. \nTot dan!! \nGrtjs De Wolvenleiding \n  \n  \n 
URL:https://defeniks.com/event/activiteit-wolven-%f0%9f%90%ba%f0%9f%90%ba/
CATEGORIES:Wolven
END:VEVENT
BEGIN:VEVENT
DTSTART;TZID=Europe/Brussels:20251115T140000
DTEND;TZID=Europe/Brussels:20251115T173000
DTSTAMP:20260425T140747
CREATED:20251103T165417Z
LAST-MODIFIED:20251103T165417Z
UID:8898-1763215200-1763227800@defeniks.com
SUMMARY:Activiteit welpen
DESCRIPTION:
URL:https://defeniks.com/event/activiteit-welpen-27/
CATEGORIES:Welpen
END:VEVENT
BEGIN:VEVENT
DTSTART;TZID=Europe/Brussels:20251115T140000
DTEND;TZID=Europe/Brussels:20251115T173000
DTSTAMP:20260425T140747
CREATED:20251012T155716Z
LAST-MODIFIED:20251012T155716Z
UID:8861-1763215200-1763227800@defeniks.com
SUMMARY:Activiteit JVG's
DESCRIPTION:
URL:https://defeniks.com/event/activiteit-jvgs-19/
END:VEVENT
BEGIN:VEVENT
DTSTART;TZID=Europe/Brussels:20251115T140000
DTEND;TZID=Europe/Brussels:20251115T173000
DTSTAMP:20260425T140747
CREATED:20251007T095947Z
LAST-MODIFIED:20251007T100401Z
UID:8836-1763215200-1763227800@defeniks.com
SUMMARY:Activiteit VG's
DESCRIPTION:
URL:https://defeniks.com/event/activiteit-6/
CATEGORIES:VG'S
END:VEVENT
BEGIN:VEVENT
DTSTART;TZID=Europe/Brussels:20251108T140000
DTEND;TZID=Europe/Brussels:20251108T173000
DTSTAMP:20260425T140747
CREATED:20251104T200142Z
LAST-MODIFIED:20251104T200142Z
UID:8902-1762610400-1762623000@defeniks.com
SUMMARY:Activiteit Wolven 🐺
DESCRIPTION:
URL:https://defeniks.com/event/activiteit-wolven-%f0%9f%90%ba-15/
CATEGORIES:Wolven
END:VEVENT
BEGIN:VEVENT
DTSTART;TZID=Europe/Brussels:20251108T140000
DTEND;TZID=Europe/Brussels:20251108T173000
DTSTAMP:20260425T140747
CREATED:20251103T165152Z
LAST-MODIFIED:20251103T165152Z
UID:8894-1762610400-1762623000@defeniks.com
SUMMARY:Activiteit welpen
DESCRIPTION:
URL:https://defeniks.com/event/activiteit-welpen-26/
CATEGORIES:Welpen
END:VEVENT
BEGIN:VEVENT
DTSTART;TZID=Europe/Brussels:20251108T140000
DTEND;TZID=Europe/Brussels:20251108T173000
DTSTAMP:20260425T140747
CREATED:20251103T164743Z
LAST-MODIFIED:20251103T164743Z
UID:8891-1762610400-1762623000@defeniks.com
SUMMARY:Activiteit Bevers 🦫
DESCRIPTION:
URL:https://defeniks.com/event/activiteit-bevers-%f0%9f%a6%ab/
CATEGORIES:Bevers
END:VEVENT
BEGIN:VEVENT
DTSTART;TZID=Europe/Brussels:20251108T140000
DTEND;TZID=Europe/Brussels:20251108T173000
DTSTAMP:20260425T140747
CREATED:20251012T155647Z
LAST-MODIFIED:20251012T155647Z
UID:8859-1762610400-1762623000@defeniks.com
SUMMARY:Activiteit JVG's
DESCRIPTION:
URL:https://defeniks.com/event/activiteit-jvgs-18/
END:VEVENT
BEGIN:VEVENT
DTSTART;TZID=Europe/Brussels:20251108T140000
DTEND;TZID=Europe/Brussels:20251108T173000
DTSTAMP:20260425T140747
CREATED:20251007T095911Z
LAST-MODIFIED:20251007T100333Z
UID:8834-1762610400-1762623000@defeniks.com
SUMMARY:Activiteit VG's
DESCRIPTION:
URL:https://defeniks.com/event/activiteit-5/
CATEGORIES:VG'S
END:VEVENT
BEGIN:VEVENT
DTSTART;TZID=Europe/Brussels:20251025T170000
DTEND;TZID=Europe/Brussels:20251025T180000
DTSTAMP:20260425T140747
CREATED:20250916T063805Z
LAST-MODIFIED:20250916T063805Z
UID:8786-1761411600-1761415200@defeniks.com
SUMMARY:Winkeltje open (17u-18u)
DESCRIPTION:
URL:https://defeniks.com/event/winkeltje-open-17u-18u-2/
LOCATION:Ter Wijl\, Sportlaan 1A\, Munkzwalm\, 9630
CATEGORIES:Ouders
END:VEVENT
BEGIN:VEVENT
DTSTART;TZID=Europe/Brussels:20251025T140000
DTEND;TZID=Europe/Brussels:20251025T173000
DTSTAMP:20260425T140747
CREATED:20251020T154251Z
LAST-MODIFIED:20251020T154251Z
UID:8884-1761400800-1761413400@defeniks.com
SUMMARY:Activiteit Bevers
DESCRIPTION:
URL:https://defeniks.com/event/activiteit-bevers-13/
LOCATION:Ter Wijl\, Sportlaan 1A\, Munkzwalm\, 9630
CATEGORIES:Bevers
END:VEVENT
BEGIN:VEVENT
DTSTART;TZID=Europe/Brussels:20251025T140000
DTEND;TZID=Europe/Brussels:20251025T173000
DTSTAMP:20260425T140747
CREATED:20251012T155341Z
LAST-MODIFIED:20251012T155341Z
UID:8857-1761400800-1761413400@defeniks.com
SUMMARY:Activiteit JVG's!!
DESCRIPTION:
URL:https://defeniks.com/event/activiteit-jvgs-17/
END:VEVENT
BEGIN:VEVENT
DTSTART;TZID=Europe/Brussels:20251025T140000
DTEND;TZID=Europe/Brussels:20251025T173000
DTSTAMP:20260425T140747
CREATED:20251007T095734Z
LAST-MODIFIED:20251007T100256Z
UID:8832-1761400800-1761413400@defeniks.com
SUMMARY:Activiteit VG's
DESCRIPTION:
URL:https://defeniks.com/event/activiteit-4/
CATEGORIES:VG'S
END:VEVENT
BEGIN:VEVENT
DTSTART;TZID=Europe/Brussels:20251025T140000
DTEND;TZID=Europe/Brussels:20251025T173000
DTSTAMP:20260425T140747
CREATED:20251004T103915Z
LAST-MODIFIED:20251004T103915Z
UID:8822-1761400800-1761413400@defeniks.com
SUMMARY:Activiteit Welpen 🐶
DESCRIPTION:
URL:https://defeniks.com/event/activiteit-welpen-%f0%9f%90%b6-3/
CATEGORIES:Welpen
END:VEVENT
BEGIN:VEVENT
DTSTART;TZID=Europe/Brussels:20251025T140000
DTEND;TZID=Europe/Brussels:20251025T173000
DTSTAMP:20260425T140747
CREATED:20251004T103034Z
LAST-MODIFIED:20251006T092808Z
UID:8812-1761400800-1761413400@defeniks.com
SUMMARY:Activiteit Wolven 🐺
DESCRIPTION:
URL:https://defeniks.com/event/activiteit-wolven-%f0%9f%90%ba-14/
CATEGORIES:Wolven
END:VEVENT
BEGIN:VEVENT
DTSTART;TZID=Europe/Brussels:20251018T180000
DTEND;TZID=Europe/Brussels:20251018T210000
DTSTAMP:20260425T140747
CREATED:20251006T083528Z
LAST-MODIFIED:20251006T183906Z
UID:8824-1760810400-1760821200@defeniks.com
SUMMARY:Halloweentocht
DESCRIPTION:?  \nOp zaterdag 18 oktober organiseert de Chiro en Scouts samen met de jeugdraad een spannende halloweentocht vol griezelplezier voor kinderen vanaf 6 jaar. \n Tussen 18 en 19 u. is het parcours wat minder eng\, perfect voor onze jongste spookjes. Daarna wordt het écht griezelen…  \n Vertrek tussen 18 en 21 u. aan jeugdlokaal Ter Wijl (Sportlaan 1A) \n Vergeet je fluohesje en zaklamp niet \n € 2 (incl. 2 hotdogs\, soep én een drankje) | Gratis voor leden van Chiro en Scouts \nInschrijven kan via onderstaande link: \nhttps://shop.stamhoofd.be/halloweentocht-chiro-sint-mattheus-zwalm/
URL:https://defeniks.com/event/halloweentocht-2/
LOCATION:Ter Wijl\, Sportlaan 1A\, Munkzwalm\, 9630
CATEGORIES:Eenheid,Ouders
END:VEVENT
BEGIN:VEVENT
DTSTART;TZID=Europe/Brussels:20251011T140000
DTEND;TZID=Europe/Brussels:20251011T173000
DTSTAMP:20260425T140747
CREATED:20251011T082010Z
LAST-MODIFIED:20251011T082010Z
UID:8850-1760191200-1760203800@defeniks.com
SUMMARY:Activiteit JVG's
DESCRIPTION:
URL:https://defeniks.com/event/activiteit-jvgs-16/
LOCATION:Ter Wijl\, Sportlaan 1A\, Munkzwalm\, 9630
CATEGORIES:JVG'S
END:VEVENT
BEGIN:VEVENT
DTSTART;TZID=Europe/Brussels:20251011T140000
DTEND;TZID=Europe/Brussels:20251011T173000
DTSTAMP:20260425T140747
CREATED:20251009T135514Z
LAST-MODIFIED:20251009T135514Z
UID:8846-1760191200-1760203800@defeniks.com
SUMMARY:Activiteit Bevers
DESCRIPTION:
URL:https://defeniks.com/event/activiteit-bevers-11/
CATEGORIES:Bevers
END:VEVENT
BEGIN:VEVENT
DTSTART;TZID=Europe/Brussels:20251011T140000
DTEND;TZID=Europe/Brussels:20251011T173000
DTSTAMP:20260425T140747
CREATED:20251007T093549Z
LAST-MODIFIED:20251007T095806Z
UID:8830-1760191200-1760203800@defeniks.com
SUMMARY:stadsspel VG's
DESCRIPTION:We gaan zaterdag 11 oktober op stadsspel in Gent! Daarvoor nemen we allemaal samen de trein van 13:42 in Zingem!!! \nWe spreken af aan het station van Zingem om 13:20\, zo zijn we zeker dat we op tijd zijn! \nTot dan! \nGroetjes de leiding
URL:https://defeniks.com/event/stadsspel-vgs/
CATEGORIES:VG'S
END:VEVENT
BEGIN:VEVENT
DTSTART;TZID=Europe/Brussels:20251011T140000
DTEND;TZID=Europe/Brussels:20251011T173000
DTSTAMP:20260425T140747
CREATED:20251004T103520Z
LAST-MODIFIED:20251004T103758Z
UID:8816-1760191200-1760203800@defeniks.com
SUMMARY:Activiteit Welpen 🐶
DESCRIPTION:
URL:https://defeniks.com/event/activiteit-welpen-%f0%9f%90%b6-2/
CATEGORIES:Welpen
END:VEVENT
BEGIN:VEVENT
DTSTART;TZID=Europe/Brussels:20251011T140000
DTEND;TZID=Europe/Brussels:20251011T173000
DTSTAMP:20260425T140747
CREATED:20250927T152253Z
LAST-MODIFIED:20250927T152336Z
UID:8802-1760191200-1760203800@defeniks.com
SUMMARY:Activiteit Wolven
DESCRIPTION: 
URL:https://defeniks.com/event/activiteit-wolven-3/
CATEGORIES:Wolven
END:VEVENT
BEGIN:VEVENT
DTSTART;TZID=Europe/Brussels:20251004T170000
DTEND;TZID=Europe/Brussels:20251004T180000
DTSTAMP:20260425T140747
CREATED:20250916T063708Z
LAST-MODIFIED:20250916T063708Z
UID:8784-1759597200-1759600800@defeniks.com
SUMMARY:Winkeltje open (17u-18u)
DESCRIPTION:
URL:https://defeniks.com/event/winkeltje-open-17u-18u/
LOCATION:Ter Wijl\, Sportlaan 1A\, Munkzwalm\, 9630
CATEGORIES:Ouders
END:VEVENT
END:VCALENDAR