BEGIN:VCALENDAR
VERSION:2.0
PRODID:-//155ste FOS De Feniks Zwalm - ECPv5.9.1//NONSGML v1.0//EN
CALSCALE:GREGORIAN
METHOD:PUBLISH
X-WR-CALNAME:155ste FOS De Feniks Zwalm
X-ORIGINAL-URL:https://defeniks.com
X-WR-CALDESC:Events for 155ste FOS De Feniks Zwalm
BEGIN:VTIMEZONE
TZID:Europe/Brussels
BEGIN:DAYLIGHT
TZOFFSETFROM:+0100
TZOFFSETTO:+0200
TZNAME:CEST
DTSTART:20250330T010000
END:DAYLIGHT
BEGIN:STANDARD
TZOFFSETFROM:+0200
TZOFFSETTO:+0100
TZNAME:CET
DTSTART:20251026T010000
END:STANDARD
BEGIN:DAYLIGHT
TZOFFSETFROM:+0100
TZOFFSETTO:+0200
TZNAME:CEST
DTSTART:20260329T010000
END:DAYLIGHT
BEGIN:STANDARD
TZOFFSETFROM:+0200
TZOFFSETTO:+0100
TZNAME:CET
DTSTART:20261025T010000
END:STANDARD
END:VTIMEZONE
BEGIN:VEVENT
DTSTART;TZID=Europe/Brussels:20260228T140000
DTEND;TZID=Europe/Brussels:20260228T173000
DTSTAMP:20260422T140033
CREATED:20260225T112007Z
LAST-MODIFIED:20260225T112007Z
UID:9158-1772287200-1772299800@defeniks.com
SUMMARY:Activiteit Wolven 🐺
DESCRIPTION:
URL:https://defeniks.com/event/activiteit-wolven-%f0%9f%90%ba-17/
CATEGORIES:Wolven
END:VEVENT
BEGIN:VEVENT
DTSTART;TZID=Europe/Brussels:20260228T140000
DTEND;TZID=Europe/Brussels:20260228T173000
DTSTAMP:20260422T140033
CREATED:20260213T191403Z
LAST-MODIFIED:20260213T191403Z
UID:9055-1772287200-1772299800@defeniks.com
SUMMARY:Activiteit JVG'ssssssssssssssssssss
DESCRIPTION:
URL:https://defeniks.com/event/activiteit-jvgssssssssssssssssssss/
CATEGORIES:JVG'S
END:VEVENT
BEGIN:VEVENT
DTSTART;TZID=Europe/Brussels:20260228T140000
DTEND;TZID=Europe/Brussels:20260228T173000
DTSTAMP:20260422T140033
CREATED:20260213T164745Z
LAST-MODIFIED:20260213T164745Z
UID:9029-1772287200-1772299800@defeniks.com
SUMMARY:Activiteit Bevers
DESCRIPTION:
URL:https://defeniks.com/event/activiteit-bevers-16/
CATEGORIES:Bevers
END:VEVENT
BEGIN:VEVENT
DTSTART;TZID=Europe/Brussels:20260228T140000
DTEND;TZID=Europe/Brussels:20260228T173000
DTSTAMP:20260422T140033
CREATED:20260213T164233Z
LAST-MODIFIED:20260213T164233Z
UID:9019-1772287200-1772299800@defeniks.com
SUMMARY:Activiteit Welpen
DESCRIPTION:
URL:https://defeniks.com/event/activiteit-welpen-30/
CATEGORIES:Welpen
END:VEVENT
BEGIN:VEVENT
DTSTART;TZID=Europe/Brussels:20260222T200000
DTEND;TZID=Europe/Brussels:20260228T110000
DTSTAMP:20260422T140033
CREATED:20260213T164810Z
LAST-MODIFIED:20260213T164849Z
UID:9033-1771790400-1772276400@defeniks.com
SUMMARY:Leefweek VG’s
DESCRIPTION:
URL:https://defeniks.com/event/leefweek/
CATEGORIES:VG'S
END:VEVENT
BEGIN:VEVENT
DTSTART;TZID=Europe/Brussels:20260221T133000
DTEND;TZID=Europe/Brussels:20260221T173000
DTSTAMP:20260422T140033
CREATED:20260215T173207Z
LAST-MODIFIED:20260215T173207Z
UID:9060-1771680600-1771695000@defeniks.com
SUMMARY:Schaatsen (verzameling om 13u30)
DESCRIPTION:Op 21 maart gaan we op eenheidsuitstap naar de schaatsbaan Kristalijn in Gent. \nWat hebben we daar voor nodig: \n\nWarme kleren (zeker handschoenen!!)\nJullie allerliefste mama\, papa\, oma of opa om ons te helpen allemaal daar te geraken.\n€4 om binnen te kunnen\n\nExtra: Ouders/grootouders die rijden mogen gratis met ons mee (zorg wel dat je ter plaatse meegeteld wordt). \nHet adres van de Kristalijn is Warmoezeniersweg 20 9000 Gent. We vertrekken naar Zwalm aan de Kristalijn om 17u om op tijd terug te zijn. \n(Bij terugkomst doen we geen verzameling meer\, deze zullen we doen op het ijs)
URL:https://defeniks.com/event/schaatsen-verzameling-om-13u30-3/
CATEGORIES:Eenheid
END:VEVENT
BEGIN:VEVENT
DTSTART;TZID=Europe/Brussels:20260214T140000
DTEND;TZID=Europe/Brussels:20260214T173000
DTSTAMP:20260422T140033
CREATED:20260213T190945Z
LAST-MODIFIED:20260213T190945Z
UID:9051-1771077600-1771090200@defeniks.com
SUMMARY:Activiteit JVG's !!!
DESCRIPTION:
URL:https://defeniks.com/event/activiteit-jvgs-20/
CATEGORIES:JVG'S
END:VEVENT
BEGIN:VEVENT
DTSTART;TZID=Europe/Brussels:20260214T140000
DTEND;TZID=Europe/Brussels:20260214T173000
DTSTAMP:20260422T140033
CREATED:20260213T164558Z
LAST-MODIFIED:20260213T164705Z
UID:9027-1771077600-1771090200@defeniks.com
SUMMARY:Valentijnsactiviteit VG’s
DESCRIPTION:
URL:https://defeniks.com/event/valentijnsactiviteit/
CATEGORIES:VG'S
END:VEVENT
BEGIN:VEVENT
DTSTART;TZID=Europe/Brussels:20260214T140000
DTEND;TZID=Europe/Brussels:20260214T173000
DTSTAMP:20260422T140033
CREATED:20260213T164243Z
LAST-MODIFIED:20260213T164243Z
UID:9018-1771077600-1771090200@defeniks.com
SUMMARY:Activiteit Wolven 🐺🐺
DESCRIPTION:
URL:https://defeniks.com/event/activiteit-wolven-%f0%9f%90%ba%f0%9f%90%ba-2/
CATEGORIES:Wolven
END:VEVENT
BEGIN:VEVENT
DTSTART;TZID=Europe/Brussels:20260214T140000
DTEND;TZID=Europe/Brussels:20260214T173000
DTSTAMP:20260422T140033
CREATED:20260213T164137Z
LAST-MODIFIED:20260213T164137Z
UID:9015-1771077600-1771090200@defeniks.com
SUMMARY:Activiteit Welpen
DESCRIPTION:
URL:https://defeniks.com/event/activiteit-welpen-29/
CATEGORIES:Welpen
END:VEVENT
BEGIN:VEVENT
DTSTART;TZID=Europe/Brussels:20260214T140000
DTEND;TZID=Europe/Brussels:20260214T173000
DTSTAMP:20260422T140033
CREATED:20260211T135433Z
LAST-MODIFIED:20260213T164731Z
UID:9012-1771077600-1771090200@defeniks.com
SUMMARY:Activiteit Bevers (Vriendjesdag!!!)
DESCRIPTION:Deze zaterdag herstart de scouts weer na onze winterstop\, en jullie mogen jullie vriendjes en vriendinnetjes die nog niet in de scouts zitten meenemen om het eens uit te proberen! Tot zaterdag!
URL:https://defeniks.com/event/activiteit-bevers-vriendjesdag/
CATEGORIES:Bevers
END:VEVENT
BEGIN:VEVENT
DTSTART;TZID=Europe/Brussels:20251220T180000
DTEND;TZID=Europe/Brussels:20251220T213000
DTSTAMP:20260422T140033
CREATED:20251124T152431Z
LAST-MODIFIED:20251124T152632Z
UID:8939-1766253600-1766266200@defeniks.com
SUMMARY:Kerstfeestje
DESCRIPTION:Helaas! Het is alweer de laatste activiteit van dit jaar. Op ons jaarlijkse kerstfeestje sluiten we af met een leuke avondactiviteit voor de hele eenheid. Wij vragen iedereen een goed ingepakt cadeautje te voorzien (ter waarde van maximaal 4 euro\, liefst geen eten)\, dit cadeautje wordt vervolgens willekeurig uitgedeeld aan de hand van verschillende spelletjes (je cadeautje kan dus bij om het even wie uitkomen).
URL:https://defeniks.com/event/kerstfeestje-5/
CATEGORIES:Eenheid
END:VEVENT
BEGIN:VEVENT
DTSTART;TZID=Europe/Brussels:20251213T180000
DTEND;TZID=Europe/Brussels:20251213T210000
DTSTAMP:20260422T140033
CREATED:20251207T140635Z
LAST-MODIFIED:20251207T140635Z
UID:8982-1765648800-1765659600@defeniks.com
SUMMARY:Kookactiviteit JVG's!!!!
DESCRIPTION:
URL:https://defeniks.com/event/kookactiviteit-jvgs/
CATEGORIES:JVG'S
END:VEVENT
BEGIN:VEVENT
DTSTART;TZID=Europe/Brussels:20251213T180000
DTEND;TZID=Europe/Brussels:20251213T210000
DTSTAMP:20260422T140033
CREATED:20251207T132822Z
LAST-MODIFIED:20251207T132822Z
UID:8979-1765648800-1765659600@defeniks.com
SUMMARY:Avondactiviteit Wolven 🐺🐺
DESCRIPTION:We spelen buiten dus kleed jullie alvast warm! \n(de leiding voorziet geen avondeten) \nTot zaterdag!! 😃
URL:https://defeniks.com/event/avondactiviteit-wolven-%f0%9f%90%ba%f0%9f%90%ba/
CATEGORIES:Wolven
END:VEVENT
BEGIN:VEVENT
DTSTART;TZID=Europe/Brussels:20251213T180000
DTEND;TZID=Europe/Brussels:20251213T210000
DTSTAMP:20260422T140033
CREATED:20251126T113345Z
LAST-MODIFIED:20251212T121916Z
UID:8952-1765648800-1765659600@defeniks.com
SUMMARY:Avondactiviteit Bevers
DESCRIPTION:LET OP: Er wordt GEEN avondeten voorzien door de leiding. Jullie mogen jullie favoriete gezelschapsspelletje meenemen!
URL:https://defeniks.com/event/avondactiviteit-bevers-2/
CATEGORIES:Bevers
END:VEVENT
BEGIN:VEVENT
DTSTART;TZID=Europe/Brussels:20251213T180000
DTEND;TZID=Europe/Brussels:20251213T210000
DTSTAMP:20260422T140033
CREATED:20251124T130219Z
LAST-MODIFIED:20251211T225240Z
UID:8931-1765648800-1765659600@defeniks.com
SUMMARY:Avondactiviteit Welpen
DESCRIPTION:Beste Welpen\, \nHet is weer tijd voor popcorn\, gezelligheid en spannende avonturen op het grote scherm! Neem je glimlach\, je knuffel en je beste stoelpositie mee\, want dit wordt een avond om niet te vergeten! \n  \nTot dan\, \nDe Welpenleiding 🐾🐾
URL:https://defeniks.com/event/avondctiviteit-welpen/
CATEGORIES:Welpen
END:VEVENT
BEGIN:VEVENT
DTSTART;TZID=Europe/Brussels:20251213T173000
DTEND;TZID=Europe/Brussels:20251213T180000
DTSTAMP:20260422T140033
CREATED:20250916T063955Z
LAST-MODIFIED:20251124T095721Z
UID:8790-1765647000-1765648800@defeniks.com
SUMMARY:Winkeltje open (17u30-18u)
DESCRIPTION:
URL:https://defeniks.com/event/winkeltje-open-17u-18u-4/
LOCATION:Ter Wijl\, Sportlaan 1A\, Munkzwalm\, 9630
CATEGORIES:Ouders
END:VEVENT
BEGIN:VEVENT
DTSTART;TZID=Europe/Brussels:20251212T190000
DTEND;TZID=Europe/Brussels:20251212T220000
DTSTAMP:20260422T140033
CREATED:20251124T151800Z
LAST-MODIFIED:20251124T152027Z
UID:8936-1765566000-1765576800@defeniks.com
SUMMARY:avondactiviteit VG's
DESCRIPTION:
URL:https://defeniks.com/event/avondactiviteit-vgs-4/
CATEGORIES:VG'S
END:VEVENT
BEGIN:VEVENT
DTSTART;TZID=Europe/Brussels:20251206T180000
DTEND;TZID=Europe/Brussels:20251206T210000
DTSTAMP:20260422T140033
CREATED:20251130T114626Z
LAST-MODIFIED:20251130T114931Z
UID:8970-1765044000-1765054800@defeniks.com
SUMMARY:Avondactiviteit Wolven 🐺
DESCRIPTION:De leiding voorziet avondeten! Kleed jullie warm genoeg en tot zaterdag🤩!
URL:https://defeniks.com/event/activiteit-wolven-%f0%9f%90%ba-16/
CATEGORIES:Wolven
END:VEVENT
BEGIN:VEVENT
DTSTART;TZID=Europe/Brussels:20251206T180000
DTEND;TZID=Europe/Brussels:20251206T210000
DTSTAMP:20260422T140033
CREATED:20251130T113604Z
LAST-MODIFIED:20251130T113705Z
UID:8966-1765044000-1765054800@defeniks.com
SUMMARY:Filmavond JVG's!!!
DESCRIPTION:De leiding voorziet avondeten\, maar neem zeker wat lekkere snacks mee voor tijdens de film!! :)
URL:https://defeniks.com/event/filmavond-3/
CATEGORIES:JVG'S
END:VEVENT
BEGIN:VEVENT
DTSTART;TZID=Europe/Brussels:20251206T180000
DTEND;TZID=Europe/Brussels:20251206T210000
DTSTAMP:20260422T140033
CREATED:20251124T125953Z
LAST-MODIFIED:20251205T144030Z
UID:8928-1765044000-1765054800@defeniks.com
SUMMARY:Sinterklaas
DESCRIPTION:De leiding voorziet avondeten!!
URL:https://defeniks.com/event/sinterklaas-2/
CATEGORIES:Bevers,Welpen
END:VEVENT
BEGIN:VEVENT
DTSTART;TZID=Europe/Brussels:20251205T173000
DTEND;TZID=Europe/Brussels:20251205T210000
DTSTAMP:20260422T140033
CREATED:20251124T151723Z
LAST-MODIFIED:20251124T152756Z
UID:8934-1764955800-1764968400@defeniks.com
SUMMARY:avondactiviteit VG's
DESCRIPTION:
URL:https://defeniks.com/event/avondactiviteit-vgs-3/
CATEGORIES:VG'S
END:VEVENT
BEGIN:VEVENT
DTSTART;TZID=Europe/Brussels:20251129T140000
DTEND;TZID=Europe/Brussels:20251129T173000
DTSTAMP:20260422T140033
CREATED:20251128T191239Z
LAST-MODIFIED:20251128T191239Z
UID:8955-1764424800-1764437400@defeniks.com
SUMMARY:Activiteit  14- 17:30u
DESCRIPTION:
URL:https://defeniks.com/event/activiteit-14-1730u/
LOCATION:Ter Wijl\, Sportlaan 1A\, Munkzwalm\, 9630
CATEGORIES:JVG'S
END:VEVENT
BEGIN:VEVENT
DTSTART;TZID=Europe/Brussels:20251129T140000
DTEND;TZID=Europe/Brussels:20251129T173000
DTSTAMP:20260422T140033
CREATED:20251126T113108Z
LAST-MODIFIED:20251126T113108Z
UID:8950-1764424800-1764437400@defeniks.com
SUMMARY:Activiteit Bevers
DESCRIPTION:
URL:https://defeniks.com/event/activiteit-bevers-15/
CATEGORIES:Bevers
END:VEVENT
BEGIN:VEVENT
DTSTART;TZID=Europe/Brussels:20251129T140000
DTEND;TZID=Europe/Brussels:20251129T173000
DTSTAMP:20260422T140033
CREATED:20251125T140845Z
LAST-MODIFIED:20251125T140845Z
UID:8947-1764424800-1764437400@defeniks.com
SUMMARY:Activiteit Wolven
DESCRIPTION:
URL:https://defeniks.com/event/activiteit-wolven-4/
END:VEVENT
BEGIN:VEVENT
DTSTART;TZID=Europe/Brussels:20251129T140000
DTEND;TZID=Europe/Brussels:20251129T173000
DTSTAMP:20260422T140033
CREATED:20251124T095440Z
LAST-MODIFIED:20251124T095440Z
UID:8925-1764424800-1764437400@defeniks.com
SUMMARY:Activiteit Welpen
DESCRIPTION:
URL:https://defeniks.com/event/activiteit-welpen-28/
CATEGORIES:Welpen
END:VEVENT
BEGIN:VEVENT
DTSTART;TZID=Europe/Brussels:20251128T190000
DTEND;TZID=Europe/Brussels:20251128T220000
DTSTAMP:20260422T140033
CREATED:20251124T152856Z
LAST-MODIFIED:20251126T120810Z
UID:8943-1764356400-1764367200@defeniks.com
SUMMARY:Avondactiviteit VG's
DESCRIPTION:
URL:https://defeniks.com/event/avondactiviteit-vgs-5/
CATEGORIES:VG'S
END:VEVENT
BEGIN:VEVENT
DTSTART;TZID=Europe/Brussels:20251122T133000
DTEND;TZID=Europe/Brussels:20251122T173000
DTSTAMP:20260422T140033
CREATED:20251019T005251Z
LAST-MODIFIED:20251122T120607Z
UID:8838-1763818200-1763832600@defeniks.com
SUMMARY:Zwemmen
DESCRIPTION:Om 13:30 spreken we af aan het lokaal (met 3 euro en zwemgerief). \nWe rekenen op de ouders om iedereen veilig naar het zwembad (de Treffer in Waregem) en terug te brengen. Voor kinderen die nog niet kunnen zwemmen\, neem bandjes mee! Ouders die graag mee zwemmen mogen zeker mee. \nGraag zouden we ten laatste om 17u terug vertrekken aan de Treffer (we doen hierna geen verzameling meer op het lokaal) en vragen dus aan de rijdende ouders om daar al iets eerder te zijn.
URL:https://defeniks.com/event/zwemmen-3/
LOCATION:De Treffer Waregem\, Meersstraat 5\, Waregem\, Belgium
CATEGORIES:Bevers,Eenheid,JVG'S,Ouders,VG'S,Welpen,Wolven
END:VEVENT
BEGIN:VEVENT
DTSTART;TZID=Europe/Brussels:20251115T170000
DTEND;TZID=Europe/Brussels:20251115T180000
DTSTAMP:20260422T140033
CREATED:20250916T063901Z
LAST-MODIFIED:20250916T063901Z
UID:8788-1763226000-1763229600@defeniks.com
SUMMARY:Winkeltje open (17u-18u)
DESCRIPTION:
URL:https://defeniks.com/event/winkeltje-open-17u-18u-3/
LOCATION:Ter Wijl\, Sportlaan 1A\, Munkzwalm\, 9630
CATEGORIES:Ouders
END:VEVENT
BEGIN:VEVENT
DTSTART;TZID=Europe/Brussels:20251115T140000
DTEND;TZID=Europe/Brussels:20251115T173000
DTSTAMP:20260422T140033
CREATED:20251114T141158Z
LAST-MODIFIED:20251114T141158Z
UID:8919-1763215200-1763227800@defeniks.com
SUMMARY:Activiteit Bevers
DESCRIPTION:
URL:https://defeniks.com/event/activiteit-bevers-14/
CATEGORIES:Bevers
END:VEVENT
END:VCALENDAR