BEGIN:VCALENDAR
VERSION:2.0
PRODID:-//155ste FOS De Feniks Zwalm - ECPv5.9.1//NONSGML v1.0//EN
CALSCALE:GREGORIAN
METHOD:PUBLISH
X-WR-CALNAME:155ste FOS De Feniks Zwalm
X-ORIGINAL-URL:https://defeniks.com
X-WR-CALDESC:Events for 155ste FOS De Feniks Zwalm
BEGIN:VTIMEZONE
TZID:Europe/Brussels
BEGIN:DAYLIGHT
TZOFFSETFROM:+0100
TZOFFSETTO:+0200
TZNAME:CEST
DTSTART:20260329T010000
END:DAYLIGHT
BEGIN:STANDARD
TZOFFSETFROM:+0200
TZOFFSETTO:+0100
TZNAME:CET
DTSTART:20261025T010000
END:STANDARD
END:VTIMEZONE
BEGIN:VEVENT
DTSTART;TZID=Europe/Brussels:20260327T190000
DTEND;TZID=Europe/Brussels:20260327T220000
DTSTAMP:20260421T084420
CREATED:20260324T165123Z
LAST-MODIFIED:20260324T165123Z
UID:9222-1774638000-1774648800@defeniks.com
SUMMARY:Avondactiviteit JVG's
DESCRIPTION:
URL:https://defeniks.com/event/avondactiviteit-jvgs/
CATEGORIES:JVG'S
END:VEVENT
BEGIN:VEVENT
DTSTART;TZID=Europe/Brussels:20260328T140000
DTEND;TZID=Europe/Brussels:20260328T173000
DTSTAMP:20260421T084420
CREATED:20260213T164350Z
LAST-MODIFIED:20260213T164350Z
UID:9025-1774706400-1774719000@defeniks.com
SUMMARY:Activiteit Welpen
DESCRIPTION:
URL:https://defeniks.com/event/activiteit-welpen-32/
END:VEVENT
BEGIN:VEVENT
DTSTART;TZID=Europe/Brussels:20260328T140000
DTEND;TZID=Europe/Brussels:20260328T173000
DTSTAMP:20260421T084420
CREATED:20260213T174740Z
LAST-MODIFIED:20260213T174740Z
UID:9047-1774706400-1774719000@defeniks.com
SUMMARY:Activiteit Bevers
DESCRIPTION:
URL:https://defeniks.com/event/activiteit-bevers-18/
CATEGORIES:Bevers
END:VEVENT
BEGIN:VEVENT
DTSTART;TZID=Europe/Brussels:20260328T140000
DTEND;TZID=Europe/Brussels:20260328T173000
DTSTAMP:20260421T084420
CREATED:20260323T130346Z
LAST-MODIFIED:20260323T130346Z
UID:9217-1774706400-1774719000@defeniks.com
SUMMARY:Activiteit Wolven 🐺
DESCRIPTION:
URL:https://defeniks.com/event/activiteit-wolven-%f0%9f%90%ba-19/
CATEGORIES:Wolven
END:VEVENT
BEGIN:VEVENT
DTSTART;TZID=Europe/Brussels:20260328T160000
DTEND;TZID=Europe/Brussels:20260328T183000
DTSTAMP:20260421T084420
CREATED:20260119T162120Z
LAST-MODIFIED:20260119T162120Z
UID:9000-1774713600-1774722600@defeniks.com
SUMMARY:Winkeltje open
DESCRIPTION:
URL:https://defeniks.com/event/winkeltje-open/
LOCATION:Ter Wijl\, Sportlaan 1A\, Munkzwalm\, 9630
CATEGORIES:Bevers,Eenheid,JVG'S,Ouders,VG'S,Welpen,Wolven
END:VEVENT
BEGIN:VEVENT
DTSTART;TZID=Europe/Brussels:20260328T190000
DTEND;TZID=Europe/Brussels:20260328T220000
DTSTAMP:20260421T084420
CREATED:20260213T165426Z
LAST-MODIFIED:20260322T204044Z
UID:9043-1774724400-1774735200@defeniks.com
SUMMARY:Avondactiviteit VG’s
DESCRIPTION:
URL:https://defeniks.com/event/activiteit-vgs-8/
CATEGORIES:VG'S
END:VEVENT
BEGIN:VEVENT
DTSTART;TZID=Europe/Brussels:20260404T140000
DTEND;TZID=Europe/Brussels:20260404T173000
DTSTAMP:20260421T084420
CREATED:20260322T204200Z
LAST-MODIFIED:20260403T123325Z
UID:9205-1775311200-1775323800@defeniks.com
SUMMARY:Activiteit VG's (koekenverkoop)
DESCRIPTION:
URL:https://defeniks.com/event/activiteit-vgs-koekenverkoop/
CATEGORIES:VG'S
END:VEVENT
BEGIN:VEVENT
DTSTART;TZID=Europe/Brussels:20260404T140000
DTEND;TZID=Europe/Brussels:20260404T173000
DTSTAMP:20260421T084420
CREATED:20260403T083920Z
LAST-MODIFIED:20260404T104347Z
UID:9224-1775311200-1775323800@defeniks.com
SUMMARY:Koekenverkoop
DESCRIPTION:
URL:https://defeniks.com/event/koekenverkoop/
CATEGORIES:Eenheid
END:VEVENT
BEGIN:VEVENT
DTSTART;TZID=Europe/Brussels:20260413T080000
DTEND;TZID=Europe/Brussels:20260417T183000
DTSTAMP:20260421T084420
CREATED:20260322T204816Z
LAST-MODIFIED:20260322T204816Z
UID:9214-1776067200-1776450600@defeniks.com
SUMMARY:Paaskamp
DESCRIPTION:
URL:https://defeniks.com/event/paaskamp-2/
CATEGORIES:Eenheid
END:VEVENT
BEGIN:VEVENT
DTSTART;TZID=Europe/Brussels:20260425T140000
DTEND;TZID=Europe/Brussels:20260425T173000
DTSTAMP:20260421T084420
CREATED:20260322T204235Z
LAST-MODIFIED:20260322T204235Z
UID:9208-1777125600-1777138200@defeniks.com
SUMMARY:Activiteit VG's
DESCRIPTION:
URL:https://defeniks.com/event/activiteit-vgs-9/
CATEGORIES:VG'S
END:VEVENT
BEGIN:VEVENT
DTSTART;TZID=Europe/Brussels:20260425T140000
DTEND;TZID=Europe/Brussels:20260425T173000
DTSTAMP:20260421T084420
CREATED:20260406T115929Z
LAST-MODIFIED:20260406T115929Z
UID:9228-1777125600-1777138200@defeniks.com
SUMMARY:Activiteit Wolven 🐺
DESCRIPTION:
URL:https://defeniks.com/event/activiteit-wolven-%f0%9f%90%ba-20/
END:VEVENT
BEGIN:VEVENT
DTSTART;VALUE=DATE:20260502
DTEND;VALUE=DATE:20260503
DTSTAMP:20260421T084420
CREATED:20260406T122052Z
LAST-MODIFIED:20260406T122052Z
UID:9231-1777680000-1777766399@defeniks.com
SUMMARY:Daguitstap Wolven 🐺🥳
DESCRIPTION:Spannend nieuws! We gaan samen met de Wolven- en JVG-tak op daguitstap! \nDe locatie blijft nog even geheim\, maar wat we jullie al kunnen vertellen\, is dat we op zaterdag 2 mei de trein nemen. We verzamelen allemaal om 8.00u aan het lokaal en zijn om 18.40u weer terug met de trein in Munkzwalm. \nEén ding staat al vast: het wordt een dag vol plezier en avontuur. \nWe vragen jullie om zelf een lunchpakket mee te nemen. Een drankje en een koekje voorzien wij. Wat mogen jullie zeker niet vergeten: perfect uniform en jullie allerbeste humeur! Want zo’n dag als deze zullen jullie niet snel vergeten\, dat kunnen we wel al verzekeren. Nu nog hopen dat het weertje ons goed gezind is\, en dan kan deze dag niet meer stuk. \nWij hopen met zo veel mogelijk op de trein (naar …) te stappen op 2 mei!!
URL:https://defeniks.com/event/daguitstap-wolven-%f0%9f%90%ba%f0%9f%a5%b3/
END:VEVENT
BEGIN:VEVENT
DTSTART;VALUE=DATE:20260502
DTEND;VALUE=DATE:20260503
DTSTAMP:20260421T084420
CREATED:20260407T101047Z
LAST-MODIFIED:20260407T101047Z
UID:9234-1777680000-1777766399@defeniks.com
SUMMARY:DAGUITSTAP JVG's  !!!!!!
DESCRIPTION:Spannend nieuws! We gaan samen met de Wolven- en JVG-tak op daguitstap! \nDe locatie blijft nog even geheim\, maar wat we jullie al kunnen vertellen\, is dat we op zaterdag 2 mei de trein nemen. We verzamelen allemaal om 8.00u aan het lokaal en zijn om 18.40u weer terug met de trein in Munkzwalm. \nEén ding staat al vast: het wordt een dag vol plezier en avontuur. \nWe vragen jullie om zelf een lunchpakket mee te nemen. Een drankje en een koekje voorzien wij. Wat mogen jullie zeker niet vergeten: perfect uniform en jullie allerbeste humeur! Want zo’n dag als deze zullen jullie niet snel vergeten\, dat kunnen we wel al verzekeren. Nu nog hopen dat het weertje ons goed gezind is\, en dan kan deze dag niet meer stuk. \nWij hopen met zo veel mogelijk op de trein (naar …) te stappen op 2 mei!!
URL:https://defeniks.com/event/daguitstap-jvgs/
CATEGORIES:JVG'S
END:VEVENT
BEGIN:VEVENT
DTSTART;TZID=Europe/Brussels:20260502T140000
DTEND;TZID=Europe/Brussels:20260502T173000
DTSTAMP:20260421T084420
CREATED:20260322T204328Z
LAST-MODIFIED:20260322T204328Z
UID:9211-1777730400-1777743000@defeniks.com
SUMMARY:Activiteit VG's
DESCRIPTION:
URL:https://defeniks.com/event/activiteit-vgs-10/
CATEGORIES:VG'S
END:VEVENT
BEGIN:VEVENT
DTSTART;TZID=Europe/Brussels:20260502T173000
DTEND;TZID=Europe/Brussels:20260502T183000
DTSTAMP:20260421T084420
CREATED:20260216T174137Z
LAST-MODIFIED:20260418T150719Z
UID:9089-1777743000-1777746600@defeniks.com
SUMMARY:Infoavond zomerkamp
DESCRIPTION:Graag lichten wij voor onze jongste leden en hun ouders nog eens kort toe hoe het er op onze zomerkampen aan toe gaat en wat er allemaal bij kijken komt. \n 
URL:https://defeniks.com/event/infoavond-zomerkamp/
CATEGORIES:Bevers,Ouders
END:VEVENT
END:VCALENDAR